BEGIN:VCALENDAR
VERSION:2.0
PRODID:-//https://www.fbcsheridan.org///NONSGML kigkonsult.se iCalcreator 2.10.15//
METHOD:PUBLISH
BEGIN:VEVENT
UID:20260423T235543UTC-70421Ge2bH@https://www.fbcsheridan.org/
DTSTAMP:20260423T235543Z
DESCRIPTION: https://www.fbcsheridan.org/events/event/1179-sunday-morning-w
 orship-service
DTSTART:20480823T180000Z
DTEND:20480823T190000Z
LOCATION:Faith Baptist Church (4101 Riosa Road\, Sheridan\, CA 95681)
SUMMARY:Sunday Morning Worship Service
URL:https://www.fbcsheridan.org/events/event/1179-sunday-morning-worship-se
 rvice
END:VEVENT
BEGIN:VEVENT
UID:20260423T235543UTC-7044MXcGgs@https://www.fbcsheridan.org/
DTSTAMP:20260423T235543Z
DESCRIPTION: https://www.fbcsheridan.org/events/event/2431-sunday-school
DTSTART:20480823T170000Z
DTEND:20480823T180000Z
LOCATION:Faith Baptist Church (4101 Riosa Road\, Sheridan\, CA 95681)
SUMMARY:Sunday School
URL:https://www.fbcsheridan.org/events/event/2431-sunday-school
END:VEVENT
BEGIN:VEVENT
UID:20260423T235543UTC-7044SCJ6U2@https://www.fbcsheridan.org/
DTSTAMP:20260423T235543Z
DESCRIPTION: https://www.fbcsheridan.org/events/event/3684-sunday-evening-s
 ervice
DTSTART:20480824T000000Z
DTEND:20480824T010000Z
LOCATION:Faith Baptist Church (4101 Riosa Road\, Sheridan\, CA 95681)
SUMMARY:Sunday Evening Service
URL:https://www.fbcsheridan.org/events/event/3684-sunday-evening-service
END:VEVENT
END:VCALENDAR
