BEGIN:VCALENDAR
VERSION:2.0
PRODID:-//https://www.fbcsheridan.org///NONSGML kigkonsult.se iCalcreator 2.10.15//
METHOD:PUBLISH
BEGIN:VEVENT
UID:20260423T053125UTC-8335xGPmUe@https://www.fbcsheridan.org/
DTSTAMP:20260423T053125Z
DESCRIPTION: https://www.fbcsheridan.org/events/event/1127-sunday-morning-w
 orship-service
DTSTART:20470825T180000Z
DTEND:20470825T190000Z
LOCATION:Faith Baptist Church (4101 Riosa Road\, Sheridan\, CA 95681)
SUMMARY:Sunday Morning Worship Service
URL:https://www.fbcsheridan.org/events/event/1127-sunday-morning-worship-se
 rvice
END:VEVENT
BEGIN:VEVENT
UID:20260423T053125UTC-8336KC7xB1@https://www.fbcsheridan.org/
DTSTAMP:20260423T053125Z
DESCRIPTION: https://www.fbcsheridan.org/events/event/2379-sunday-school
DTSTART:20470825T170000Z
DTEND:20470825T180000Z
LOCATION:Faith Baptist Church (4101 Riosa Road\, Sheridan\, CA 95681)
SUMMARY:Sunday School
URL:https://www.fbcsheridan.org/events/event/2379-sunday-school
END:VEVENT
BEGIN:VEVENT
UID:20260423T053125UTC-8337ZuBSFz@https://www.fbcsheridan.org/
DTSTAMP:20260423T053125Z
DESCRIPTION: https://www.fbcsheridan.org/events/event/3632-sunday-evening-s
 ervice
DTSTART:20470826T000000Z
DTEND:20470826T010000Z
LOCATION:Faith Baptist Church (4101 Riosa Road\, Sheridan\, CA 95681)
SUMMARY:Sunday Evening Service
URL:https://www.fbcsheridan.org/events/event/3632-sunday-evening-service
END:VEVENT
END:VCALENDAR
