BEGIN:VCALENDAR
VERSION:2.0
PRODID:-//https://www.fbcsheridan.org///NONSGML kigkonsult.se iCalcreator 2.10.15//
METHOD:PUBLISH
BEGIN:VEVENT
UID:20260422T105258UTC-4737vp4elI@https://www.fbcsheridan.org/
DTSTAMP:20260422T105258Z
DESCRIPTION: https://www.fbcsheridan.org/events/event/1075-sunday-morning-w
 orship-service
DTSTART:20460826T180000Z
DTEND:20460826T190000Z
LOCATION:Faith Baptist Church (4101 Riosa Road\, Sheridan\, CA 95681)
SUMMARY:Sunday Morning Worship Service
URL:https://www.fbcsheridan.org/events/event/1075-sunday-morning-worship-se
 rvice
END:VEVENT
BEGIN:VEVENT
UID:20260422T105258UTC-4738MmUHxg@https://www.fbcsheridan.org/
DTSTAMP:20260422T105258Z
DESCRIPTION: https://www.fbcsheridan.org/events/event/2327-sunday-school
DTSTART:20460826T170000Z
DTEND:20460826T180000Z
LOCATION:Faith Baptist Church (4101 Riosa Road\, Sheridan\, CA 95681)
SUMMARY:Sunday School
URL:https://www.fbcsheridan.org/events/event/2327-sunday-school
END:VEVENT
BEGIN:VEVENT
UID:20260422T105258UTC-4739hjaoLG@https://www.fbcsheridan.org/
DTSTAMP:20260422T105258Z
DESCRIPTION: https://www.fbcsheridan.org/events/event/3580-sunday-evening-s
 ervice
DTSTART:20460827T000000Z
DTEND:20460827T010000Z
LOCATION:Faith Baptist Church (4101 Riosa Road\, Sheridan\, CA 95681)
SUMMARY:Sunday Evening Service
URL:https://www.fbcsheridan.org/events/event/3580-sunday-evening-service
END:VEVENT
END:VCALENDAR
