BEGIN:VCALENDAR
VERSION:2.0
PRODID:-//https://www.fbcsheridan.org///NONSGML kigkonsult.se iCalcreator 2.10.15//
METHOD:PUBLISH
BEGIN:VEVENT
UID:20260421T162532UTC-4643mrAUzG@https://www.fbcsheridan.org/
DTSTAMP:20260421T162532Z
DESCRIPTION: https://www.fbcsheridan.org/events/event/1023-sunday-morning-w
 orship-service
DTSTART:20450827T180000Z
DTEND:20450827T190000Z
LOCATION:Faith Baptist Church (4101 Riosa Road\, Sheridan\, CA 95681)
SUMMARY:Sunday Morning Worship Service
URL:https://www.fbcsheridan.org/events/event/1023-sunday-morning-worship-se
 rvice
END:VEVENT
BEGIN:VEVENT
UID:20260421T162532UTC-4645UVWaB8@https://www.fbcsheridan.org/
DTSTAMP:20260421T162532Z
DESCRIPTION: https://www.fbcsheridan.org/events/event/2275-sunday-school
DTSTART:20450827T170000Z
DTEND:20450827T180000Z
LOCATION:Faith Baptist Church (4101 Riosa Road\, Sheridan\, CA 95681)
SUMMARY:Sunday School
URL:https://www.fbcsheridan.org/events/event/2275-sunday-school
END:VEVENT
BEGIN:VEVENT
UID:20260421T162532UTC-4647U01Ek4@https://www.fbcsheridan.org/
DTSTAMP:20260421T162532Z
DESCRIPTION: https://www.fbcsheridan.org/events/event/3528-sunday-evening-s
 ervice
DTSTART:20450828T000000Z
DTEND:20450828T010000Z
LOCATION:Faith Baptist Church (4101 Riosa Road\, Sheridan\, CA 95681)
SUMMARY:Sunday Evening Service
URL:https://www.fbcsheridan.org/events/event/3528-sunday-evening-service
END:VEVENT
END:VCALENDAR
