BEGIN:VCALENDAR
VERSION:2.0
PRODID:-//https://www.fbcsheridan.org///NONSGML kigkonsult.se iCalcreator 2.10.15//
METHOD:PUBLISH
BEGIN:VEVENT
UID:20260420T234038UTC-16455Uv6GV@https://www.fbcsheridan.org/
DTSTAMP:20260420T234038Z
DESCRIPTION: https://www.fbcsheridan.org/events/event/971-sunday-morning-wo
 rship-service
DTSTART:20440828T180000Z
DTEND:20440828T190000Z
LOCATION:Faith Baptist Church (4101 Riosa Road\, Sheridan\, CA 95681)
SUMMARY:Sunday Morning Worship Service
URL:https://www.fbcsheridan.org/events/event/971-sunday-morning-worship-ser
 vice
END:VEVENT
BEGIN:VEVENT
UID:20260420T234038UTC-164663crSC@https://www.fbcsheridan.org/
DTSTAMP:20260420T234038Z
DESCRIPTION: https://www.fbcsheridan.org/events/event/2223-sunday-school
DTSTART:20440828T170000Z
DTEND:20440828T180000Z
LOCATION:Faith Baptist Church (4101 Riosa Road\, Sheridan\, CA 95681)
SUMMARY:Sunday School
URL:https://www.fbcsheridan.org/events/event/2223-sunday-school
END:VEVENT
BEGIN:VEVENT
UID:20260420T234038UTC-1647hcJIaU@https://www.fbcsheridan.org/
DTSTAMP:20260420T234038Z
DESCRIPTION: https://www.fbcsheridan.org/events/event/3476-sunday-evening-s
 ervice
DTSTART:20440829T000000Z
DTEND:20440829T010000Z
LOCATION:Faith Baptist Church (4101 Riosa Road\, Sheridan\, CA 95681)
SUMMARY:Sunday Evening Service
URL:https://www.fbcsheridan.org/events/event/3476-sunday-evening-service
END:VEVENT
END:VCALENDAR
