BEGIN:VCALENDAR
VERSION:2.0
PRODID:-//https://www.fbcsheridan.org///NONSGML kigkonsult.se iCalcreator 2.10.15//
METHOD:PUBLISH
BEGIN:VEVENT
UID:20260424T225912UTC-30593Ouhdm@https://www.fbcsheridan.org/
DTSTAMP:20260424T225912Z
DESCRIPTION: https://www.fbcsheridan.org/events/event/1232-sunday-morning-w
 orship-service
DTSTART:20490829T180000Z
DTEND:20490829T190000Z
LOCATION:Faith Baptist Church (4101 Riosa Road\, Sheridan\, CA 95681)
SUMMARY:Sunday Morning Worship Service
URL:https://www.fbcsheridan.org/events/event/1232-sunday-morning-worship-se
 rvice
END:VEVENT
BEGIN:VEVENT
UID:20260424T225912UTC-30612eUsu4@https://www.fbcsheridan.org/
DTSTAMP:20260424T225912Z
DESCRIPTION: https://www.fbcsheridan.org/events/event/2484-sunday-school
DTSTART:20490829T170000Z
DTEND:20490829T180000Z
LOCATION:Faith Baptist Church (4101 Riosa Road\, Sheridan\, CA 95681)
SUMMARY:Sunday School
URL:https://www.fbcsheridan.org/events/event/2484-sunday-school
END:VEVENT
BEGIN:VEVENT
UID:20260424T225912UTC-3063UFTFSh@https://www.fbcsheridan.org/
DTSTAMP:20260424T225912Z
DESCRIPTION: https://www.fbcsheridan.org/events/event/3737-sunday-evening-s
 ervice
DTSTART:20490830T000000Z
DTEND:20490830T010000Z
LOCATION:Faith Baptist Church (4101 Riosa Road\, Sheridan\, CA 95681)
SUMMARY:Sunday Evening Service
URL:https://www.fbcsheridan.org/events/event/3737-sunday-evening-service
END:VEVENT
END:VCALENDAR
