BEGIN:VCALENDAR
VERSION:2.0
PRODID:-//https://www.fbcsheridan.org///NONSGML kigkonsult.se iCalcreator 2.10.15//
METHOD:PUBLISH
BEGIN:VEVENT
UID:20260423T233509UTC-0853XPNUoW@https://www.fbcsheridan.org/
DTSTAMP:20260423T233509Z
DESCRIPTION: https://www.fbcsheridan.org/events/event/1180-sunday-morning-w
 orship-service
DTSTART:20480830T180000Z
DTEND:20480830T190000Z
LOCATION:Faith Baptist Church (4101 Riosa Road\, Sheridan\, CA 95681)
SUMMARY:Sunday Morning Worship Service
URL:https://www.fbcsheridan.org/events/event/1180-sunday-morning-worship-se
 rvice
END:VEVENT
BEGIN:VEVENT
UID:20260423T233509UTC-0854avDGNS@https://www.fbcsheridan.org/
DTSTAMP:20260423T233509Z
DESCRIPTION: https://www.fbcsheridan.org/events/event/2432-sunday-school
DTSTART:20480830T170000Z
DTEND:20480830T180000Z
LOCATION:Faith Baptist Church (4101 Riosa Road\, Sheridan\, CA 95681)
SUMMARY:Sunday School
URL:https://www.fbcsheridan.org/events/event/2432-sunday-school
END:VEVENT
BEGIN:VEVENT
UID:20260423T233509UTC-08553BJbko@https://www.fbcsheridan.org/
DTSTAMP:20260423T233509Z
DESCRIPTION: https://www.fbcsheridan.org/events/event/3685-sunday-evening-s
 ervice
DTSTART:20480831T000000Z
DTEND:20480831T010000Z
LOCATION:Faith Baptist Church (4101 Riosa Road\, Sheridan\, CA 95681)
SUMMARY:Sunday Evening Service
URL:https://www.fbcsheridan.org/events/event/3685-sunday-evening-service
END:VEVENT
END:VCALENDAR
