BEGIN:VCALENDAR
VERSION:2.0
PRODID:-//https://www.fbcsheridan.org///NONSGML kigkonsult.se iCalcreator 2.10.15//
METHOD:PUBLISH
BEGIN:VEVENT
UID:20260419T143710UTC-4491T9X9Pn@https://www.fbcsheridan.org/
DTSTAMP:20260419T143710Z
DESCRIPTION: https://www.fbcsheridan.org/events/event/868-sunday-morning-wo
 rship-service
DTSTART:20420907T180000Z
DTEND:20420907T190000Z
LOCATION:Faith Baptist Church (4101 Riosa Road\, Sheridan\, CA 95681)
SUMMARY:Sunday Morning Worship Service
URL:https://www.fbcsheridan.org/events/event/868-sunday-morning-worship-ser
 vice
END:VEVENT
BEGIN:VEVENT
UID:20260419T143710UTC-4492ez3sEG@https://www.fbcsheridan.org/
DTSTAMP:20260419T143710Z
DESCRIPTION: https://www.fbcsheridan.org/events/event/2120-sunday-school
DTSTART:20420907T170000Z
DTEND:20420907T180000Z
LOCATION:Faith Baptist Church (4101 Riosa Road\, Sheridan\, CA 95681)
SUMMARY:Sunday School
URL:https://www.fbcsheridan.org/events/event/2120-sunday-school
END:VEVENT
BEGIN:VEVENT
UID:20260419T143710UTC-4493i3DGWk@https://www.fbcsheridan.org/
DTSTAMP:20260419T143710Z
DESCRIPTION: https://www.fbcsheridan.org/events/event/3373-sunday-evening-s
 ervice
DTSTART:20420908T000000Z
DTEND:20420908T010000Z
LOCATION:Faith Baptist Church (4101 Riosa Road\, Sheridan\, CA 95681)
SUMMARY:Sunday Evening Service
URL:https://www.fbcsheridan.org/events/event/3373-sunday-evening-service
END:VEVENT
END:VCALENDAR
