BEGIN:VCALENDAR
VERSION:2.0
PRODID:-//https://www.fbcsheridan.org///NONSGML kigkonsult.se iCalcreator 2.10.15//
METHOD:PUBLISH
BEGIN:VEVENT
UID:20260419T143708UTC-6461tr7B3I@https://www.fbcsheridan.org/
DTSTAMP:20260419T143708Z
DESCRIPTION: https://www.fbcsheridan.org/events/event/4626-wednesday-evenin
 g-service
DTSTART:20420911T020000Z
DTEND:20420911T030000Z
LOCATION:Faith Baptist Church (4101 Riosa Road\, Sheridan\, CA 95681)
SUMMARY:Wednesday Evening Service
URL:https://www.fbcsheridan.org/events/event/4626-wednesday-evening-service
END:VEVENT
END:VCALENDAR
