BEGIN:VCALENDAR
VERSION:2.0
PRODID:-//https://www.fbcsheridan.org///NONSGML kigkonsult.se iCalcreator 2.10.15//
METHOD:PUBLISH
BEGIN:VEVENT
UID:20260421T011454UTC-0532PDdbTV@https://www.fbcsheridan.org/
DTSTAMP:20260421T011454Z
DESCRIPTION: https://www.fbcsheridan.org/events/event/973-sunday-morning-wo
 rship-service
DTSTART:20440911T180000Z
DTEND:20440911T190000Z
LOCATION:Faith Baptist Church (4101 Riosa Road\, Sheridan\, CA 95681)
SUMMARY:Sunday Morning Worship Service
URL:https://www.fbcsheridan.org/events/event/973-sunday-morning-worship-ser
 vice
END:VEVENT
BEGIN:VEVENT
UID:20260421T011454UTC-0533DoUphc@https://www.fbcsheridan.org/
DTSTAMP:20260421T011454Z
DESCRIPTION: https://www.fbcsheridan.org/events/event/2225-sunday-school
DTSTART:20440911T170000Z
DTEND:20440911T180000Z
LOCATION:Faith Baptist Church (4101 Riosa Road\, Sheridan\, CA 95681)
SUMMARY:Sunday School
URL:https://www.fbcsheridan.org/events/event/2225-sunday-school
END:VEVENT
BEGIN:VEVENT
UID:20260421T011454UTC-0534kuw6Is@https://www.fbcsheridan.org/
DTSTAMP:20260421T011454Z
DESCRIPTION: https://www.fbcsheridan.org/events/event/3478-sunday-evening-s
 ervice
DTSTART:20440912T000000Z
DTEND:20440912T010000Z
LOCATION:Faith Baptist Church (4101 Riosa Road\, Sheridan\, CA 95681)
SUMMARY:Sunday Evening Service
URL:https://www.fbcsheridan.org/events/event/3478-sunday-evening-service
END:VEVENT
END:VCALENDAR
