BEGIN:VCALENDAR
VERSION:2.0
PRODID:-//https://www.fbcsheridan.org///NONSGML kigkonsult.se iCalcreator 2.10.15//
METHOD:PUBLISH
BEGIN:VEVENT
UID:20260424T014110UTC-7297P6naNi@https://www.fbcsheridan.org/
DTSTAMP:20260424T014110Z
DESCRIPTION: https://www.fbcsheridan.org/events/event/1182-sunday-morning-w
 orship-service
DTSTART:20480913T180000Z
DTEND:20480913T190000Z
LOCATION:Faith Baptist Church (4101 Riosa Road\, Sheridan\, CA 95681)
SUMMARY:Sunday Morning Worship Service
URL:https://www.fbcsheridan.org/events/event/1182-sunday-morning-worship-se
 rvice
END:VEVENT
BEGIN:VEVENT
UID:20260424T014110UTC-72986efVOL@https://www.fbcsheridan.org/
DTSTAMP:20260424T014110Z
DESCRIPTION: https://www.fbcsheridan.org/events/event/2434-sunday-school
DTSTART:20480913T170000Z
DTEND:20480913T180000Z
LOCATION:Faith Baptist Church (4101 Riosa Road\, Sheridan\, CA 95681)
SUMMARY:Sunday School
URL:https://www.fbcsheridan.org/events/event/2434-sunday-school
END:VEVENT
BEGIN:VEVENT
UID:20260424T014110UTC-7299uXgfkA@https://www.fbcsheridan.org/
DTSTAMP:20260424T014110Z
DESCRIPTION: https://www.fbcsheridan.org/events/event/3687-sunday-evening-s
 ervice
DTSTART:20480914T000000Z
DTEND:20480914T010000Z
LOCATION:Faith Baptist Church (4101 Riosa Road\, Sheridan\, CA 95681)
SUMMARY:Sunday Evening Service
URL:https://www.fbcsheridan.org/events/event/3687-sunday-evening-service
END:VEVENT
END:VCALENDAR
