BEGIN:VCALENDAR
VERSION:2.0
PRODID:-//https://www.fbcsheridan.org///NONSGML kigkonsult.se iCalcreator 2.10.15//
METHOD:PUBLISH
BEGIN:VEVENT
UID:20260419T143707UTC-3473wVPMLG@https://www.fbcsheridan.org/
DTSTAMP:20260419T143707Z
DESCRIPTION: https://www.fbcsheridan.org/events/event/869-sunday-morning-wo
 rship-service
DTSTART:20420914T180000Z
DTEND:20420914T190000Z
LOCATION:Faith Baptist Church (4101 Riosa Road\, Sheridan\, CA 95681)
SUMMARY:Sunday Morning Worship Service
URL:https://www.fbcsheridan.org/events/event/869-sunday-morning-worship-ser
 vice
END:VEVENT
BEGIN:VEVENT
UID:20260419T143707UTC-3474V9m9MJ@https://www.fbcsheridan.org/
DTSTAMP:20260419T143707Z
DESCRIPTION: https://www.fbcsheridan.org/events/event/2121-sunday-school
DTSTART:20420914T170000Z
DTEND:20420914T180000Z
LOCATION:Faith Baptist Church (4101 Riosa Road\, Sheridan\, CA 95681)
SUMMARY:Sunday School
URL:https://www.fbcsheridan.org/events/event/2121-sunday-school
END:VEVENT
BEGIN:VEVENT
UID:20260419T143707UTC-3475B2urjX@https://www.fbcsheridan.org/
DTSTAMP:20260419T143707Z
DESCRIPTION: https://www.fbcsheridan.org/events/event/3374-sunday-evening-s
 ervice
DTSTART:20420915T000000Z
DTEND:20420915T010000Z
LOCATION:Faith Baptist Church (4101 Riosa Road\, Sheridan\, CA 95681)
SUMMARY:Sunday Evening Service
URL:https://www.fbcsheridan.org/events/event/3374-sunday-evening-service
END:VEVENT
END:VCALENDAR
