BEGIN:VCALENDAR
VERSION:2.0
PRODID:-//https://www.fbcsheridan.org///NONSGML kigkonsult.se iCalcreator 2.10.15//
METHOD:PUBLISH
BEGIN:VEVENT
UID:20260423T070122UTC-7396fV4vCw@https://www.fbcsheridan.org/
DTSTAMP:20260423T070122Z
DESCRIPTION: https://www.fbcsheridan.org/events/event/1130-sunday-morning-w
 orship-service
DTSTART:20470915T180000Z
DTEND:20470915T190000Z
LOCATION:Faith Baptist Church (4101 Riosa Road\, Sheridan\, CA 95681)
SUMMARY:Sunday Morning Worship Service
URL:https://www.fbcsheridan.org/events/event/1130-sunday-morning-worship-se
 rvice
END:VEVENT
BEGIN:VEVENT
UID:20260423T070122UTC-7397kGsxa9@https://www.fbcsheridan.org/
DTSTAMP:20260423T070122Z
DESCRIPTION: https://www.fbcsheridan.org/events/event/2382-sunday-school
DTSTART:20470915T170000Z
DTEND:20470915T180000Z
LOCATION:Faith Baptist Church (4101 Riosa Road\, Sheridan\, CA 95681)
SUMMARY:Sunday School
URL:https://www.fbcsheridan.org/events/event/2382-sunday-school
END:VEVENT
BEGIN:VEVENT
UID:20260423T070122UTC-739844G2U6@https://www.fbcsheridan.org/
DTSTAMP:20260423T070122Z
DESCRIPTION: https://www.fbcsheridan.org/events/event/3635-sunday-evening-s
 ervice
DTSTART:20470916T000000Z
DTEND:20470916T010000Z
LOCATION:Faith Baptist Church (4101 Riosa Road\, Sheridan\, CA 95681)
SUMMARY:Sunday Evening Service
URL:https://www.fbcsheridan.org/events/event/3635-sunday-evening-service
END:VEVENT
END:VCALENDAR
