BEGIN:VCALENDAR
VERSION:2.0
PRODID:-//https://www.fbcsheridan.org///NONSGML kigkonsult.se iCalcreator 2.10.15//
METHOD:PUBLISH
BEGIN:VEVENT
UID:20260422T123519UTC-6282o6LcAI@https://www.fbcsheridan.org/
DTSTAMP:20260422T123519Z
DESCRIPTION: https://www.fbcsheridan.org/events/event/1078-sunday-morning-w
 orship-service
DTSTART:20460916T180000Z
DTEND:20460916T190000Z
LOCATION:Faith Baptist Church (4101 Riosa Road\, Sheridan\, CA 95681)
SUMMARY:Sunday Morning Worship Service
URL:https://www.fbcsheridan.org/events/event/1078-sunday-morning-worship-se
 rvice
END:VEVENT
BEGIN:VEVENT
UID:20260422T123519UTC-6283E2RUSu@https://www.fbcsheridan.org/
DTSTAMP:20260422T123519Z
DESCRIPTION: https://www.fbcsheridan.org/events/event/2330-sunday-school
DTSTART:20460916T170000Z
DTEND:20460916T180000Z
LOCATION:Faith Baptist Church (4101 Riosa Road\, Sheridan\, CA 95681)
SUMMARY:Sunday School
URL:https://www.fbcsheridan.org/events/event/2330-sunday-school
END:VEVENT
BEGIN:VEVENT
UID:20260422T123519UTC-628497zPIU@https://www.fbcsheridan.org/
DTSTAMP:20260422T123519Z
DESCRIPTION: https://www.fbcsheridan.org/events/event/3583-sunday-evening-s
 ervice
DTSTART:20460917T000000Z
DTEND:20460917T010000Z
LOCATION:Faith Baptist Church (4101 Riosa Road\, Sheridan\, CA 95681)
SUMMARY:Sunday Evening Service
URL:https://www.fbcsheridan.org/events/event/3583-sunday-evening-service
END:VEVENT
END:VCALENDAR
