BEGIN:VCALENDAR
VERSION:2.0
PRODID:-//https://www.fbcsheridan.org///NONSGML kigkonsult.se iCalcreator 2.10.15//
METHOD:PUBLISH
BEGIN:VEVENT
UID:20260423T070110UTC-3427R391D3@https://www.fbcsheridan.org/
DTSTAMP:20260423T070110Z
DESCRIPTION: https://www.fbcsheridan.org/events/event/4888-wednesday-evenin
 g-service
DTSTART:20470919T020000Z
DTEND:20470919T030000Z
LOCATION:Faith Baptist Church (4101 Riosa Road\, Sheridan\, CA 95681)
SUMMARY:Wednesday Evening Service
URL:https://www.fbcsheridan.org/events/event/4888-wednesday-evening-service
END:VEVENT
END:VCALENDAR
