BEGIN:VCALENDAR
VERSION:2.0
PRODID:-//https://www.fbcsheridan.org///NONSGML kigkonsult.se iCalcreator 2.10.15//
METHOD:PUBLISH
BEGIN:VEVENT
UID:20260425T005936UTC-29604KJLgD@https://www.fbcsheridan.org/
DTSTAMP:20260425T005936Z
DESCRIPTION: https://www.fbcsheridan.org/events/event/1235-sunday-morning-w
 orship-service
DTSTART:20490919T180000Z
DTEND:20490919T190000Z
LOCATION:Faith Baptist Church (4101 Riosa Road\, Sheridan\, CA 95681)
SUMMARY:Sunday Morning Worship Service
URL:https://www.fbcsheridan.org/events/event/1235-sunday-morning-worship-se
 rvice
END:VEVENT
BEGIN:VEVENT
UID:20260425T005936UTC-2963zF0TMJ@https://www.fbcsheridan.org/
DTSTAMP:20260425T005936Z
DESCRIPTION: https://www.fbcsheridan.org/events/event/2487-sunday-school
DTSTART:20490919T170000Z
DTEND:20490919T180000Z
LOCATION:Faith Baptist Church (4101 Riosa Road\, Sheridan\, CA 95681)
SUMMARY:Sunday School
URL:https://www.fbcsheridan.org/events/event/2487-sunday-school
END:VEVENT
BEGIN:VEVENT
UID:20260425T005936UTC-2964PMtbEx@https://www.fbcsheridan.org/
DTSTAMP:20260425T005936Z
DESCRIPTION: https://www.fbcsheridan.org/events/event/3740-sunday-evening-s
 ervice
DTSTART:20490920T000000Z
DTEND:20490920T010000Z
LOCATION:Faith Baptist Church (4101 Riosa Road\, Sheridan\, CA 95681)
SUMMARY:Sunday Evening Service
URL:https://www.fbcsheridan.org/events/event/3740-sunday-evening-service
END:VEVENT
END:VCALENDAR
