BEGIN:VCALENDAR
VERSION:2.0
PRODID:-//https://www.fbcsheridan.org///NONSGML kigkonsult.se iCalcreator 2.10.15//
METHOD:PUBLISH
BEGIN:VEVENT
UID:20260420T074355UTC-8153F6Cvxw@https://www.fbcsheridan.org/
DTSTAMP:20260420T074355Z
DESCRIPTION: https://www.fbcsheridan.org/events/event/922-sunday-morning-wo
 rship-service
DTSTART:20430920T180000Z
DTEND:20430920T190000Z
LOCATION:Faith Baptist Church (4101 Riosa Road\, Sheridan\, CA 95681)
SUMMARY:Sunday Morning Worship Service
URL:https://www.fbcsheridan.org/events/event/922-sunday-morning-worship-ser
 vice
END:VEVENT
BEGIN:VEVENT
UID:20260420T074355UTC-8155kjOcrB@https://www.fbcsheridan.org/
DTSTAMP:20260420T074355Z
DESCRIPTION: https://www.fbcsheridan.org/events/event/2174-sunday-school
DTSTART:20430920T170000Z
DTEND:20430920T180000Z
LOCATION:Faith Baptist Church (4101 Riosa Road\, Sheridan\, CA 95681)
SUMMARY:Sunday School
URL:https://www.fbcsheridan.org/events/event/2174-sunday-school
END:VEVENT
BEGIN:VEVENT
UID:20260420T074355UTC-8156xVzfzx@https://www.fbcsheridan.org/
DTSTAMP:20260420T074355Z
DESCRIPTION: https://www.fbcsheridan.org/events/event/3427-sunday-evening-s
 ervice
DTSTART:20430921T000000Z
DTEND:20430921T010000Z
LOCATION:Faith Baptist Church (4101 Riosa Road\, Sheridan\, CA 95681)
SUMMARY:Sunday Evening Service
URL:https://www.fbcsheridan.org/events/event/3427-sunday-evening-service
END:VEVENT
END:VCALENDAR
