BEGIN:VCALENDAR
VERSION:2.0
PRODID:-//https://www.fbcsheridan.org///NONSGML kigkonsult.se iCalcreator 2.10.15//
METHOD:PUBLISH
BEGIN:VEVENT
UID:20260419T143700UTC-0038G8bGwG@https://www.fbcsheridan.org/
DTSTAMP:20260419T143700Z
DESCRIPTION: https://www.fbcsheridan.org/events/event/870-sunday-morning-wo
 rship-service
DTSTART:20420921T180000Z
DTEND:20420921T190000Z
LOCATION:Faith Baptist Church (4101 Riosa Road\, Sheridan\, CA 95681)
SUMMARY:Sunday Morning Worship Service
URL:https://www.fbcsheridan.org/events/event/870-sunday-morning-worship-ser
 vice
END:VEVENT
BEGIN:VEVENT
UID:20260419T143700UTC-0039U2vhMX@https://www.fbcsheridan.org/
DTSTAMP:20260419T143700Z
DESCRIPTION: https://www.fbcsheridan.org/events/event/2122-sunday-school
DTSTART:20420921T170000Z
DTEND:20420921T180000Z
LOCATION:Faith Baptist Church (4101 Riosa Road\, Sheridan\, CA 95681)
SUMMARY:Sunday School
URL:https://www.fbcsheridan.org/events/event/2122-sunday-school
END:VEVENT
BEGIN:VEVENT
UID:20260419T143700UTC-0040O5Kp9W@https://www.fbcsheridan.org/
DTSTAMP:20260419T143700Z
DESCRIPTION: https://www.fbcsheridan.org/events/event/3375-sunday-evening-s
 ervice
DTSTART:20420922T000000Z
DTEND:20420922T010000Z
LOCATION:Faith Baptist Church (4101 Riosa Road\, Sheridan\, CA 95681)
SUMMARY:Sunday Evening Service
URL:https://www.fbcsheridan.org/events/event/3375-sunday-evening-service
END:VEVENT
END:VCALENDAR
