BEGIN:VCALENDAR
VERSION:2.0
PRODID:-//https://www.fbcsheridan.org///NONSGML kigkonsult.se iCalcreator 2.10.15//
METHOD:PUBLISH
BEGIN:VEVENT
UID:20260423T070123UTC-0357Gb1TXD@https://www.fbcsheridan.org/
DTSTAMP:20260423T070123Z
DESCRIPTION: https://www.fbcsheridan.org/events/event/1131-sunday-morning-w
 orship-service
DTSTART:20470922T180000Z
DTEND:20470922T190000Z
LOCATION:Faith Baptist Church (4101 Riosa Road\, Sheridan\, CA 95681)
SUMMARY:Sunday Morning Worship Service
URL:https://www.fbcsheridan.org/events/event/1131-sunday-morning-worship-se
 rvice
END:VEVENT
BEGIN:VEVENT
UID:20260423T070123UTC-0359s1Sfpu@https://www.fbcsheridan.org/
DTSTAMP:20260423T070123Z
DESCRIPTION: https://www.fbcsheridan.org/events/event/2383-sunday-school
DTSTART:20470922T170000Z
DTEND:20470922T180000Z
LOCATION:Faith Baptist Church (4101 Riosa Road\, Sheridan\, CA 95681)
SUMMARY:Sunday School
URL:https://www.fbcsheridan.org/events/event/2383-sunday-school
END:VEVENT
BEGIN:VEVENT
UID:20260423T070123UTC-0360LVNZi4@https://www.fbcsheridan.org/
DTSTAMP:20260423T070123Z
DESCRIPTION: https://www.fbcsheridan.org/events/event/3636-sunday-evening-s
 ervice
DTSTART:20470923T000000Z
DTEND:20470923T010000Z
LOCATION:Faith Baptist Church (4101 Riosa Road\, Sheridan\, CA 95681)
SUMMARY:Sunday Evening Service
URL:https://www.fbcsheridan.org/events/event/3636-sunday-evening-service
END:VEVENT
END:VCALENDAR
