BEGIN:VCALENDAR
VERSION:2.0
PRODID:-//https://www.fbcsheridan.org///NONSGML kigkonsult.se iCalcreator 2.10.15//
METHOD:PUBLISH
BEGIN:VEVENT
UID:20260425T005956UTC-7598o2I0lJ@https://www.fbcsheridan.org/
DTSTAMP:20260425T005956Z
DESCRIPTION: https://www.fbcsheridan.org/events/event/1236-sunday-morning-w
 orship-service
DTSTART:20490926T180000Z
DTEND:20490926T190000Z
LOCATION:Faith Baptist Church (4101 Riosa Road\, Sheridan\, CA 95681)
SUMMARY:Sunday Morning Worship Service
URL:https://www.fbcsheridan.org/events/event/1236-sunday-morning-worship-se
 rvice
END:VEVENT
BEGIN:VEVENT
UID:20260425T005956UTC-7600gUi3uM@https://www.fbcsheridan.org/
DTSTAMP:20260425T005956Z
DESCRIPTION: https://www.fbcsheridan.org/events/event/2488-sunday-school
DTSTART:20490926T170000Z
DTEND:20490926T180000Z
LOCATION:Faith Baptist Church (4101 Riosa Road\, Sheridan\, CA 95681)
SUMMARY:Sunday School
URL:https://www.fbcsheridan.org/events/event/2488-sunday-school
END:VEVENT
BEGIN:VEVENT
UID:20260425T005956UTC-7601IrEuWg@https://www.fbcsheridan.org/
DTSTAMP:20260425T005956Z
DESCRIPTION: https://www.fbcsheridan.org/events/event/3741-sunday-evening-s
 ervice
DTSTART:20490927T000000Z
DTEND:20490927T010000Z
LOCATION:Faith Baptist Church (4101 Riosa Road\, Sheridan\, CA 95681)
SUMMARY:Sunday Evening Service
URL:https://www.fbcsheridan.org/events/event/3741-sunday-evening-service
END:VEVENT
END:VCALENDAR
