BEGIN:VCALENDAR
VERSION:2.0
PRODID:-//https://www.fbcsheridan.org///NONSGML kigkonsult.se iCalcreator 2.10.15//
METHOD:PUBLISH
BEGIN:VEVENT
UID:20260420T074458UTC-9849vMjgdJ@https://www.fbcsheridan.org/
DTSTAMP:20260420T074458Z
DESCRIPTION: https://www.fbcsheridan.org/events/event/923-sunday-morning-wo
 rship-service
DTSTART:20430927T180000Z
DTEND:20430927T190000Z
LOCATION:Faith Baptist Church (4101 Riosa Road\, Sheridan\, CA 95681)
SUMMARY:Sunday Morning Worship Service
URL:https://www.fbcsheridan.org/events/event/923-sunday-morning-worship-ser
 vice
END:VEVENT
BEGIN:VEVENT
UID:20260420T074458UTC-9850M4fsKT@https://www.fbcsheridan.org/
DTSTAMP:20260420T074458Z
DESCRIPTION: https://www.fbcsheridan.org/events/event/2175-sunday-school
DTSTART:20430927T170000Z
DTEND:20430927T180000Z
LOCATION:Faith Baptist Church (4101 Riosa Road\, Sheridan\, CA 95681)
SUMMARY:Sunday School
URL:https://www.fbcsheridan.org/events/event/2175-sunday-school
END:VEVENT
BEGIN:VEVENT
UID:20260420T074458UTC-98515ctMZN@https://www.fbcsheridan.org/
DTSTAMP:20260420T074458Z
DESCRIPTION: https://www.fbcsheridan.org/events/event/3428-sunday-evening-s
 ervice
DTSTART:20430928T000000Z
DTEND:20430928T010000Z
LOCATION:Faith Baptist Church (4101 Riosa Road\, Sheridan\, CA 95681)
SUMMARY:Sunday Evening Service
URL:https://www.fbcsheridan.org/events/event/3428-sunday-evening-service
END:VEVENT
END:VCALENDAR
