BEGIN:VCALENDAR
VERSION:2.0
PRODID:-//https://www.fbcsheridan.org///NONSGML kigkonsult.se iCalcreator 2.10.15//
METHOD:PUBLISH
BEGIN:VEVENT
UID:20260424T014110UTC-8208m6Znp0@https://www.fbcsheridan.org/
DTSTAMP:20260424T014110Z
DESCRIPTION: https://www.fbcsheridan.org/events/event/1184-sunday-morning-w
 orship-service
DTSTART:20480927T180000Z
DTEND:20480927T190000Z
LOCATION:Faith Baptist Church (4101 Riosa Road\, Sheridan\, CA 95681)
SUMMARY:Sunday Morning Worship Service
URL:https://www.fbcsheridan.org/events/event/1184-sunday-morning-worship-se
 rvice
END:VEVENT
BEGIN:VEVENT
UID:20260424T014110UTC-8209FBIWEd@https://www.fbcsheridan.org/
DTSTAMP:20260424T014110Z
DESCRIPTION: https://www.fbcsheridan.org/events/event/2436-sunday-school
DTSTART:20480927T170000Z
DTEND:20480927T180000Z
LOCATION:Faith Baptist Church (4101 Riosa Road\, Sheridan\, CA 95681)
SUMMARY:Sunday School
URL:https://www.fbcsheridan.org/events/event/2436-sunday-school
END:VEVENT
BEGIN:VEVENT
UID:20260424T014110UTC-8210NV7pOJ@https://www.fbcsheridan.org/
DTSTAMP:20260424T014110Z
DESCRIPTION: https://www.fbcsheridan.org/events/event/3689-sunday-evening-s
 ervice
DTSTART:20480928T000000Z
DTEND:20480928T010000Z
LOCATION:Faith Baptist Church (4101 Riosa Road\, Sheridan\, CA 95681)
SUMMARY:Sunday Evening Service
URL:https://www.fbcsheridan.org/events/event/3689-sunday-evening-service
END:VEVENT
END:VCALENDAR
