BEGIN:VCALENDAR
VERSION:2.0
PRODID:-//https://www.fbcsheridan.org///NONSGML kigkonsult.se iCalcreator 2.10.15//
METHOD:PUBLISH
BEGIN:VEVENT
UID:20260419T143810UTC-3214vzDjsJ@https://www.fbcsheridan.org/
DTSTAMP:20260419T143810Z
DESCRIPTION: https://www.fbcsheridan.org/events/event/871-sunday-morning-wo
 rship-service
DTSTART:20420928T180000Z
DTEND:20420928T190000Z
LOCATION:Faith Baptist Church (4101 Riosa Road\, Sheridan\, CA 95681)
SUMMARY:Sunday Morning Worship Service
URL:https://www.fbcsheridan.org/events/event/871-sunday-morning-worship-ser
 vice
END:VEVENT
BEGIN:VEVENT
UID:20260419T143810UTC-3216N4Ul5x@https://www.fbcsheridan.org/
DTSTAMP:20260419T143810Z
DESCRIPTION: https://www.fbcsheridan.org/events/event/2123-sunday-school
DTSTART:20420928T170000Z
DTEND:20420928T180000Z
LOCATION:Faith Baptist Church (4101 Riosa Road\, Sheridan\, CA 95681)
SUMMARY:Sunday School
URL:https://www.fbcsheridan.org/events/event/2123-sunday-school
END:VEVENT
BEGIN:VEVENT
UID:20260419T143810UTC-3217tBbxxG@https://www.fbcsheridan.org/
DTSTAMP:20260419T143810Z
DESCRIPTION: https://www.fbcsheridan.org/events/event/3376-sunday-evening-s
 ervice
DTSTART:20420929T000000Z
DTEND:20420929T010000Z
LOCATION:Faith Baptist Church (4101 Riosa Road\, Sheridan\, CA 95681)
SUMMARY:Sunday Evening Service
URL:https://www.fbcsheridan.org/events/event/3376-sunday-evening-service
END:VEVENT
END:VCALENDAR
