BEGIN:VCALENDAR
VERSION:2.0
PRODID:-//https://www.fbcsheridan.org///NONSGML kigkonsult.se iCalcreator 2.10.15//
METHOD:PUBLISH
BEGIN:VEVENT
UID:20260421T194500UTC-05711t9vJ0@https://www.fbcsheridan.org/
DTSTAMP:20260421T194500Z
DESCRIPTION: https://www.fbcsheridan.org/events/event/1028-sunday-morning-w
 orship-service
DTSTART:20451001T180000Z
DTEND:20451001T190000Z
LOCATION:Faith Baptist Church (4101 Riosa Road\, Sheridan\, CA 95681)
SUMMARY:Sunday Morning Worship Service
URL:https://www.fbcsheridan.org/events/event/1028-sunday-morning-worship-se
 rvice
END:VEVENT
BEGIN:VEVENT
UID:20260421T194500UTC-0572W7vi8O@https://www.fbcsheridan.org/
DTSTAMP:20260421T194500Z
DESCRIPTION: https://www.fbcsheridan.org/events/event/2280-sunday-school
DTSTART:20451001T170000Z
DTEND:20451001T180000Z
LOCATION:Faith Baptist Church (4101 Riosa Road\, Sheridan\, CA 95681)
SUMMARY:Sunday School
URL:https://www.fbcsheridan.org/events/event/2280-sunday-school
END:VEVENT
BEGIN:VEVENT
UID:20260421T194500UTC-0573zND14d@https://www.fbcsheridan.org/
DTSTAMP:20260421T194500Z
DESCRIPTION: https://www.fbcsheridan.org/events/event/3533-sunday-evening-s
 ervice
DTSTART:20451002T000000Z
DTEND:20451002T010000Z
LOCATION:Faith Baptist Church (4101 Riosa Road\, Sheridan\, CA 95681)
SUMMARY:Sunday Evening Service
URL:https://www.fbcsheridan.org/events/event/3533-sunday-evening-service
END:VEVENT
END:VCALENDAR
