BEGIN:VCALENDAR
VERSION:2.0
PRODID:-//https://www.fbcsheridan.org///NONSGML kigkonsult.se iCalcreator 2.10.15//
METHOD:PUBLISH
BEGIN:VEVENT
UID:20260423T070123UTC-4776XmZZSe@https://www.fbcsheridan.org/
DTSTAMP:20260423T070123Z
DESCRIPTION: https://www.fbcsheridan.org/events/event/4890-wednesday-evenin
 g-service
DTSTART:20471003T020000Z
DTEND:20471003T030000Z
LOCATION:Faith Baptist Church (4101 Riosa Road\, Sheridan\, CA 95681)
SUMMARY:Wednesday Evening Service
URL:https://www.fbcsheridan.org/events/event/4890-wednesday-evening-service
END:VEVENT
END:VCALENDAR
