BEGIN:VCALENDAR
VERSION:2.0
PRODID:-//https://www.fbcsheridan.org///NONSGML kigkonsult.se iCalcreator 2.10.15//
METHOD:PUBLISH
BEGIN:VEVENT
UID:20260424T032751UTC-9086g9Ld1u@https://www.fbcsheridan.org/
DTSTAMP:20260424T032751Z
DESCRIPTION: https://www.fbcsheridan.org/events/event/1185-sunday-morning-w
 orship-service
DTSTART:20481004T180000Z
DTEND:20481004T190000Z
LOCATION:Faith Baptist Church (4101 Riosa Road\, Sheridan\, CA 95681)
SUMMARY:Sunday Morning Worship Service
URL:https://www.fbcsheridan.org/events/event/1185-sunday-morning-worship-se
 rvice
END:VEVENT
BEGIN:VEVENT
UID:20260424T032751UTC-9087H15vPE@https://www.fbcsheridan.org/
DTSTAMP:20260424T032751Z
DESCRIPTION: https://www.fbcsheridan.org/events/event/2437-sunday-school
DTSTART:20481004T170000Z
DTEND:20481004T180000Z
LOCATION:Faith Baptist Church (4101 Riosa Road\, Sheridan\, CA 95681)
SUMMARY:Sunday School
URL:https://www.fbcsheridan.org/events/event/2437-sunday-school
END:VEVENT
BEGIN:VEVENT
UID:20260424T032751UTC-9088A0Cf5X@https://www.fbcsheridan.org/
DTSTAMP:20260424T032751Z
DESCRIPTION: https://www.fbcsheridan.org/events/event/3690-sunday-evening-s
 ervice
DTSTART:20481005T000000Z
DTEND:20481005T010000Z
LOCATION:Faith Baptist Church (4101 Riosa Road\, Sheridan\, CA 95681)
SUMMARY:Sunday Evening Service
URL:https://www.fbcsheridan.org/events/event/3690-sunday-evening-service
END:VEVENT
END:VCALENDAR
