BEGIN:VCALENDAR
VERSION:2.0
PRODID:-//https://www.fbcsheridan.org///NONSGML kigkonsult.se iCalcreator 2.10.15//
METHOD:PUBLISH
BEGIN:VEVENT
UID:20260423T091631UTC-5181OrPOPv@https://www.fbcsheridan.org/
DTSTAMP:20260423T091631Z
DESCRIPTION: https://www.fbcsheridan.org/events/event/1133-sunday-morning-w
 orship-service
DTSTART:20471006T180000Z
DTEND:20471006T190000Z
LOCATION:Faith Baptist Church (4101 Riosa Road\, Sheridan\, CA 95681)
SUMMARY:Sunday Morning Worship Service
URL:https://www.fbcsheridan.org/events/event/1133-sunday-morning-worship-se
 rvice
END:VEVENT
BEGIN:VEVENT
UID:20260423T091631UTC-5182Pk2iST@https://www.fbcsheridan.org/
DTSTAMP:20260423T091631Z
DESCRIPTION: https://www.fbcsheridan.org/events/event/2385-sunday-school
DTSTART:20471006T170000Z
DTEND:20471006T180000Z
LOCATION:Faith Baptist Church (4101 Riosa Road\, Sheridan\, CA 95681)
SUMMARY:Sunday School
URL:https://www.fbcsheridan.org/events/event/2385-sunday-school
END:VEVENT
BEGIN:VEVENT
UID:20260423T091631UTC-5182XT20IP@https://www.fbcsheridan.org/
DTSTAMP:20260423T091631Z
DESCRIPTION: https://www.fbcsheridan.org/events/event/3638-sunday-evening-s
 ervice
DTSTART:20471007T000000Z
DTEND:20471007T010000Z
LOCATION:Faith Baptist Church (4101 Riosa Road\, Sheridan\, CA 95681)
SUMMARY:Sunday Evening Service
URL:https://www.fbcsheridan.org/events/event/3638-sunday-evening-service
END:VEVENT
END:VCALENDAR
