BEGIN:VCALENDAR
VERSION:2.0
PRODID:-//https://www.fbcsheridan.org///NONSGML kigkonsult.se iCalcreator 2.10.15//
METHOD:PUBLISH
BEGIN:VEVENT
UID:20260425T024657UTC-8117vT4prH@https://www.fbcsheridan.org/
DTSTAMP:20260425T024657Z
DESCRIPTION: https://www.fbcsheridan.org/events/event/1238-sunday-morning-w
 orship-service
DTSTART:20491010T180000Z
DTEND:20491010T190000Z
LOCATION:Faith Baptist Church (4101 Riosa Road\, Sheridan\, CA 95681)
SUMMARY:Sunday Morning Worship Service
URL:https://www.fbcsheridan.org/events/event/1238-sunday-morning-worship-se
 rvice
END:VEVENT
BEGIN:VEVENT
UID:20260425T024657UTC-8118Kd291X@https://www.fbcsheridan.org/
DTSTAMP:20260425T024657Z
DESCRIPTION: https://www.fbcsheridan.org/events/event/2490-sunday-school
DTSTART:20491010T170000Z
DTEND:20491010T180000Z
LOCATION:Faith Baptist Church (4101 Riosa Road\, Sheridan\, CA 95681)
SUMMARY:Sunday School
URL:https://www.fbcsheridan.org/events/event/2490-sunday-school
END:VEVENT
BEGIN:VEVENT
UID:20260425T024657UTC-8119Snllxu@https://www.fbcsheridan.org/
DTSTAMP:20260425T024657Z
DESCRIPTION: https://www.fbcsheridan.org/events/event/3743-sunday-evening-s
 ervice
DTSTART:20491011T000000Z
DTEND:20491011T010000Z
LOCATION:Faith Baptist Church (4101 Riosa Road\, Sheridan\, CA 95681)
SUMMARY:Sunday Evening Service
URL:https://www.fbcsheridan.org/events/event/3743-sunday-evening-service
END:VEVENT
END:VCALENDAR
