BEGIN:VCALENDAR
VERSION:2.0
PRODID:-//https://www.fbcsheridan.org///NONSGML kigkonsult.se iCalcreator 2.10.15//
METHOD:PUBLISH
BEGIN:VEVENT
UID:20260420T092007UTC-25505ez6VP@https://www.fbcsheridan.org/
DTSTAMP:20260420T092007Z
DESCRIPTION: https://www.fbcsheridan.org/events/event/925-sunday-morning-wo
 rship-service
DTSTART:20431011T180000Z
DTEND:20431011T190000Z
LOCATION:Faith Baptist Church (4101 Riosa Road\, Sheridan\, CA 95681)
SUMMARY:Sunday Morning Worship Service
URL:https://www.fbcsheridan.org/events/event/925-sunday-morning-worship-ser
 vice
END:VEVENT
BEGIN:VEVENT
UID:20260420T092007UTC-2551kOclaK@https://www.fbcsheridan.org/
DTSTAMP:20260420T092007Z
DESCRIPTION: https://www.fbcsheridan.org/events/event/2177-sunday-school
DTSTART:20431011T170000Z
DTEND:20431011T180000Z
LOCATION:Faith Baptist Church (4101 Riosa Road\, Sheridan\, CA 95681)
SUMMARY:Sunday School
URL:https://www.fbcsheridan.org/events/event/2177-sunday-school
END:VEVENT
BEGIN:VEVENT
UID:20260420T092007UTC-25525bovHx@https://www.fbcsheridan.org/
DTSTAMP:20260420T092007Z
DESCRIPTION: https://www.fbcsheridan.org/events/event/3430-sunday-evening-s
 ervice
DTSTART:20431012T000000Z
DTEND:20431012T010000Z
LOCATION:Faith Baptist Church (4101 Riosa Road\, Sheridan\, CA 95681)
SUMMARY:Sunday Evening Service
URL:https://www.fbcsheridan.org/events/event/3430-sunday-evening-service
END:VEVENT
END:VCALENDAR
