BEGIN:VCALENDAR
VERSION:2.0
PRODID:-//https://www.fbcsheridan.org///NONSGML kigkonsult.se iCalcreator 2.10.15//
METHOD:PUBLISH
BEGIN:VEVENT
UID:20260423T085653UTC-2851FkCkZK@https://www.fbcsheridan.org/
DTSTAMP:20260423T085653Z
DESCRIPTION: https://www.fbcsheridan.org/events/event/1134-sunday-morning-w
 orship-service
DTSTART:20471013T180000Z
DTEND:20471013T190000Z
LOCATION:Faith Baptist Church (4101 Riosa Road\, Sheridan\, CA 95681)
SUMMARY:Sunday Morning Worship Service
URL:https://www.fbcsheridan.org/events/event/1134-sunday-morning-worship-se
 rvice
END:VEVENT
BEGIN:VEVENT
UID:20260423T085653UTC-2853T78vl8@https://www.fbcsheridan.org/
DTSTAMP:20260423T085653Z
DESCRIPTION: https://www.fbcsheridan.org/events/event/2386-sunday-school
DTSTART:20471013T170000Z
DTEND:20471013T180000Z
LOCATION:Faith Baptist Church (4101 Riosa Road\, Sheridan\, CA 95681)
SUMMARY:Sunday School
URL:https://www.fbcsheridan.org/events/event/2386-sunday-school
END:VEVENT
BEGIN:VEVENT
UID:20260423T085653UTC-2853Evu5fI@https://www.fbcsheridan.org/
DTSTAMP:20260423T085653Z
DESCRIPTION: https://www.fbcsheridan.org/events/event/3639-sunday-evening-s
 ervice
DTSTART:20471014T000000Z
DTEND:20471014T010000Z
LOCATION:Faith Baptist Church (4101 Riosa Road\, Sheridan\, CA 95681)
SUMMARY:Sunday Evening Service
URL:https://www.fbcsheridan.org/events/event/3639-sunday-evening-service
END:VEVENT
END:VCALENDAR
