BEGIN:VCALENDAR
VERSION:2.0
PRODID:-//https://www.fbcsheridan.org///NONSGML kigkonsult.se iCalcreator 2.10.15//
METHOD:PUBLISH
BEGIN:VEVENT
UID:20260425T024656UTC-4497PABKhN@https://www.fbcsheridan.org/
DTSTAMP:20260425T024656Z
DESCRIPTION: https://www.fbcsheridan.org/events/event/1239-sunday-morning-w
 orship-service
DTSTART:20491017T180000Z
DTEND:20491017T190000Z
LOCATION:Faith Baptist Church (4101 Riosa Road\, Sheridan\, CA 95681)
SUMMARY:Sunday Morning Worship Service
URL:https://www.fbcsheridan.org/events/event/1239-sunday-morning-worship-se
 rvice
END:VEVENT
BEGIN:VEVENT
UID:20260425T024656UTC-4499a3d3ti@https://www.fbcsheridan.org/
DTSTAMP:20260425T024656Z
DESCRIPTION: https://www.fbcsheridan.org/events/event/2491-sunday-school
DTSTART:20491017T170000Z
DTEND:20491017T180000Z
LOCATION:Faith Baptist Church (4101 Riosa Road\, Sheridan\, CA 95681)
SUMMARY:Sunday School
URL:https://www.fbcsheridan.org/events/event/2491-sunday-school
END:VEVENT
BEGIN:VEVENT
UID:20260425T024656UTC-4499gcTgd6@https://www.fbcsheridan.org/
DTSTAMP:20260425T024656Z
DESCRIPTION: https://www.fbcsheridan.org/events/event/3744-sunday-evening-s
 ervice
DTSTART:20491018T000000Z
DTEND:20491018T010000Z
LOCATION:Faith Baptist Church (4101 Riosa Road\, Sheridan\, CA 95681)
SUMMARY:Sunday Evening Service
URL:https://www.fbcsheridan.org/events/event/3744-sunday-evening-service
END:VEVENT
END:VCALENDAR
