BEGIN:VCALENDAR
VERSION:2.0
PRODID:-//https://www.fbcsheridan.org///NONSGML kigkonsult.se iCalcreator 2.10.15//
METHOD:PUBLISH
BEGIN:VEVENT
UID:20260424T032837UTC-8778vapd5H@https://www.fbcsheridan.org/
DTSTAMP:20260424T032837Z
DESCRIPTION: https://www.fbcsheridan.org/events/event/1187-sunday-morning-w
 orship-service
DTSTART:20481018T180000Z
DTEND:20481018T190000Z
LOCATION:Faith Baptist Church (4101 Riosa Road\, Sheridan\, CA 95681)
SUMMARY:Sunday Morning Worship Service
URL:https://www.fbcsheridan.org/events/event/1187-sunday-morning-worship-se
 rvice
END:VEVENT
BEGIN:VEVENT
UID:20260424T032837UTC-87795zsoj7@https://www.fbcsheridan.org/
DTSTAMP:20260424T032837Z
DESCRIPTION: https://www.fbcsheridan.org/events/event/2439-sunday-school
DTSTART:20481018T170000Z
DTEND:20481018T180000Z
LOCATION:Faith Baptist Church (4101 Riosa Road\, Sheridan\, CA 95681)
SUMMARY:Sunday School
URL:https://www.fbcsheridan.org/events/event/2439-sunday-school
END:VEVENT
BEGIN:VEVENT
UID:20260424T032837UTC-8780VN6FWG@https://www.fbcsheridan.org/
DTSTAMP:20260424T032837Z
DESCRIPTION: https://www.fbcsheridan.org/events/event/3692-sunday-evening-s
 ervice
DTSTART:20481019T000000Z
DTEND:20481019T010000Z
LOCATION:Faith Baptist Church (4101 Riosa Road\, Sheridan\, CA 95681)
SUMMARY:Sunday Evening Service
URL:https://www.fbcsheridan.org/events/event/3692-sunday-evening-service
END:VEVENT
END:VCALENDAR
