BEGIN:VCALENDAR
VERSION:2.0
PRODID:-//https://www.fbcsheridan.org///NONSGML kigkonsult.se iCalcreator 2.10.15//
METHOD:PUBLISH
BEGIN:VEVENT
UID:20260419T160645UTC-9992nOsoh7@https://www.fbcsheridan.org/
DTSTAMP:20260419T160645Z
DESCRIPTION: https://www.fbcsheridan.org/events/event/874-sunday-morning-wo
 rship-service
DTSTART:20421019T180000Z
DTEND:20421019T190000Z
LOCATION:Faith Baptist Church (4101 Riosa Road\, Sheridan\, CA 95681)
SUMMARY:Sunday Morning Worship Service
URL:https://www.fbcsheridan.org/events/event/874-sunday-morning-worship-ser
 vice
END:VEVENT
BEGIN:VEVENT
UID:20260419T160645UTC-9993tig0I7@https://www.fbcsheridan.org/
DTSTAMP:20260419T160645Z
DESCRIPTION: https://www.fbcsheridan.org/events/event/2126-sunday-school
DTSTART:20421019T170000Z
DTEND:20421019T180000Z
LOCATION:Faith Baptist Church (4101 Riosa Road\, Sheridan\, CA 95681)
SUMMARY:Sunday School
URL:https://www.fbcsheridan.org/events/event/2126-sunday-school
END:VEVENT
BEGIN:VEVENT
UID:20260419T160645UTC-9994WKAp7C@https://www.fbcsheridan.org/
DTSTAMP:20260419T160645Z
DESCRIPTION: https://www.fbcsheridan.org/events/event/3379-sunday-evening-s
 ervice
DTSTART:20421020T000000Z
DTEND:20421020T010000Z
LOCATION:Faith Baptist Church (4101 Riosa Road\, Sheridan\, CA 95681)
SUMMARY:Sunday Evening Service
URL:https://www.fbcsheridan.org/events/event/3379-sunday-evening-service
END:VEVENT
END:VCALENDAR
