BEGIN:VCALENDAR
VERSION:2.0
PRODID:-//https://www.fbcsheridan.org///NONSGML kigkonsult.se iCalcreator 2.10.15//
METHOD:PUBLISH
BEGIN:VEVENT
UID:20260423T091630UTC-43982FaeJD@https://www.fbcsheridan.org/
DTSTAMP:20260423T091630Z
DESCRIPTION: https://www.fbcsheridan.org/events/event/1135-sunday-morning-w
 orship-service
DTSTART:20471020T180000Z
DTEND:20471020T190000Z
LOCATION:Faith Baptist Church (4101 Riosa Road\, Sheridan\, CA 95681)
SUMMARY:Sunday Morning Worship Service
URL:https://www.fbcsheridan.org/events/event/1135-sunday-morning-worship-se
 rvice
END:VEVENT
BEGIN:VEVENT
UID:20260423T091630UTC-4399tVJeEd@https://www.fbcsheridan.org/
DTSTAMP:20260423T091630Z
DESCRIPTION: https://www.fbcsheridan.org/events/event/2387-sunday-school
DTSTART:20471020T170000Z
DTEND:20471020T180000Z
LOCATION:Faith Baptist Church (4101 Riosa Road\, Sheridan\, CA 95681)
SUMMARY:Sunday School
URL:https://www.fbcsheridan.org/events/event/2387-sunday-school
END:VEVENT
BEGIN:VEVENT
UID:20260423T091630UTC-4400sfUvTA@https://www.fbcsheridan.org/
DTSTAMP:20260423T091630Z
DESCRIPTION: https://www.fbcsheridan.org/events/event/3640-sunday-evening-s
 ervice
DTSTART:20471021T000000Z
DTEND:20471021T010000Z
LOCATION:Faith Baptist Church (4101 Riosa Road\, Sheridan\, CA 95681)
SUMMARY:Sunday Evening Service
URL:https://www.fbcsheridan.org/events/event/3640-sunday-evening-service
END:VEVENT
END:VCALENDAR
