BEGIN:VCALENDAR
VERSION:2.0
PRODID:-//https://www.fbcsheridan.org///NONSGML kigkonsult.se iCalcreator 2.10.15//
METHOD:PUBLISH
BEGIN:VEVENT
UID:20260422T140125UTC-1139K0zJRG@https://www.fbcsheridan.org/
DTSTAMP:20260422T140125Z
DESCRIPTION: https://www.fbcsheridan.org/events/event/1083-sunday-morning-w
 orship-service
DTSTART:20461021T180000Z
DTEND:20461021T190000Z
LOCATION:Faith Baptist Church (4101 Riosa Road\, Sheridan\, CA 95681)
SUMMARY:Sunday Morning Worship Service
URL:https://www.fbcsheridan.org/events/event/1083-sunday-morning-worship-se
 rvice
END:VEVENT
BEGIN:VEVENT
UID:20260422T140125UTC-1141d6hRKp@https://www.fbcsheridan.org/
DTSTAMP:20260422T140125Z
DESCRIPTION: https://www.fbcsheridan.org/events/event/2335-sunday-school
DTSTART:20461021T170000Z
DTEND:20461021T180000Z
LOCATION:Faith Baptist Church (4101 Riosa Road\, Sheridan\, CA 95681)
SUMMARY:Sunday School
URL:https://www.fbcsheridan.org/events/event/2335-sunday-school
END:VEVENT
BEGIN:VEVENT
UID:20260422T140125UTC-114354sujU@https://www.fbcsheridan.org/
DTSTAMP:20260422T140125Z
DESCRIPTION: https://www.fbcsheridan.org/events/event/3588-sunday-evening-s
 ervice
DTSTART:20461022T000000Z
DTEND:20461022T010000Z
LOCATION:Faith Baptist Church (4101 Riosa Road\, Sheridan\, CA 95681)
SUMMARY:Sunday Evening Service
URL:https://www.fbcsheridan.org/events/event/3588-sunday-evening-service
END:VEVENT
END:VCALENDAR
