BEGIN:VCALENDAR
VERSION:2.0
PRODID:-//https://www.fbcsheridan.org///NONSGML kigkonsult.se iCalcreator 2.10.15//
METHOD:PUBLISH
BEGIN:VEVENT
UID:20260419T160714UTC-7933hT6kXn@https://www.fbcsheridan.org/
DTSTAMP:20260419T160714Z
DESCRIPTION: https://www.fbcsheridan.org/events/event/4632-wednesday-evenin
 g-service
DTSTART:20421023T020000Z
DTEND:20421023T030000Z
LOCATION:Faith Baptist Church (4101 Riosa Road\, Sheridan\, CA 95681)
SUMMARY:Wednesday Evening Service
URL:https://www.fbcsheridan.org/events/event/4632-wednesday-evening-service
END:VEVENT
END:VCALENDAR
