BEGIN:VCALENDAR
VERSION:2.0
PRODID:-//https://www.fbcsheridan.org///NONSGML kigkonsult.se iCalcreator 2.10.15//
METHOD:PUBLISH
BEGIN:VEVENT
UID:20260420T092008UTC-7485GPwNVf@https://www.fbcsheridan.org/
DTSTAMP:20260420T092008Z
DESCRIPTION: https://www.fbcsheridan.org/events/event/927-sunday-morning-wo
 rship-service
DTSTART:20431025T180000Z
DTEND:20431025T190000Z
LOCATION:Faith Baptist Church (4101 Riosa Road\, Sheridan\, CA 95681)
SUMMARY:Sunday Morning Worship Service
URL:https://www.fbcsheridan.org/events/event/927-sunday-morning-worship-ser
 vice
END:VEVENT
BEGIN:VEVENT
UID:20260420T092008UTC-7487Pv3EGn@https://www.fbcsheridan.org/
DTSTAMP:20260420T092008Z
DESCRIPTION: https://www.fbcsheridan.org/events/event/2179-sunday-school
DTSTART:20431025T170000Z
DTEND:20431025T180000Z
LOCATION:Faith Baptist Church (4101 Riosa Road\, Sheridan\, CA 95681)
SUMMARY:Sunday School
URL:https://www.fbcsheridan.org/events/event/2179-sunday-school
END:VEVENT
BEGIN:VEVENT
UID:20260420T092008UTC-7487Xo8KNp@https://www.fbcsheridan.org/
DTSTAMP:20260420T092008Z
DESCRIPTION: https://www.fbcsheridan.org/events/event/3432-sunday-evening-s
 ervice
DTSTART:20431026T000000Z
DTEND:20431026T010000Z
LOCATION:Faith Baptist Church (4101 Riosa Road\, Sheridan\, CA 95681)
SUMMARY:Sunday Evening Service
URL:https://www.fbcsheridan.org/events/event/3432-sunday-evening-service
END:VEVENT
END:VCALENDAR
