BEGIN:VCALENDAR
VERSION:2.0
PRODID:-//https://www.fbcsheridan.org///NONSGML kigkonsult.se iCalcreator 2.10.15//
METHOD:PUBLISH
BEGIN:VEVENT
UID:20260421T194604UTC-9100UXA6wS@https://www.fbcsheridan.org/
DTSTAMP:20260421T194604Z
DESCRIPTION: https://www.fbcsheridan.org/events/event/4789-wednesday-evenin
 g-service
DTSTART:20451026T020000Z
DTEND:20451026T030000Z
LOCATION:Faith Baptist Church (4101 Riosa Road\, Sheridan\, CA 95681)
SUMMARY:Wednesday Evening Service
URL:https://www.fbcsheridan.org/events/event/4789-wednesday-evening-service
END:VEVENT
END:VCALENDAR
