BEGIN:VCALENDAR
VERSION:2.0
PRODID:-//https://www.fbcsheridan.org///NONSGML kigkonsult.se iCalcreator 2.10.15//
METHOD:PUBLISH
BEGIN:VEVENT
UID:20260424T032838UTC-073148W4nO@https://www.fbcsheridan.org/
DTSTAMP:20260424T032838Z
DESCRIPTION: https://www.fbcsheridan.org/events/event/1188-sunday-morning-w
 orship-service
DTSTART:20481025T180000Z
DTEND:20481025T190000Z
LOCATION:Faith Baptist Church (4101 Riosa Road\, Sheridan\, CA 95681)
SUMMARY:Sunday Morning Worship Service
URL:https://www.fbcsheridan.org/events/event/1188-sunday-morning-worship-se
 rvice
END:VEVENT
BEGIN:VEVENT
UID:20260424T032838UTC-0732hr2NAa@https://www.fbcsheridan.org/
DTSTAMP:20260424T032838Z
DESCRIPTION: https://www.fbcsheridan.org/events/event/2440-sunday-school
DTSTART:20481025T170000Z
DTEND:20481025T180000Z
LOCATION:Faith Baptist Church (4101 Riosa Road\, Sheridan\, CA 95681)
SUMMARY:Sunday School
URL:https://www.fbcsheridan.org/events/event/2440-sunday-school
END:VEVENT
BEGIN:VEVENT
UID:20260424T032838UTC-07330OSo3f@https://www.fbcsheridan.org/
DTSTAMP:20260424T032838Z
DESCRIPTION: https://www.fbcsheridan.org/events/event/3693-sunday-evening-s
 ervice
DTSTART:20481026T000000Z
DTEND:20481026T010000Z
LOCATION:Faith Baptist Church (4101 Riosa Road\, Sheridan\, CA 95681)
SUMMARY:Sunday Evening Service
URL:https://www.fbcsheridan.org/events/event/3693-sunday-evening-service
END:VEVENT
END:VCALENDAR
