BEGIN:VCALENDAR
VERSION:2.0
PRODID:-//https://www.fbcsheridan.org///NONSGML kigkonsult.se iCalcreator 2.10.15//
METHOD:PUBLISH
BEGIN:VEVENT
UID:20260422T141714UTC-92853U8F3C@https://www.fbcsheridan.org/
DTSTAMP:20260422T141714Z
DESCRIPTION: https://www.fbcsheridan.org/events/event/1084-sunday-morning-w
 orship-service
DTSTART:20461028T180000Z
DTEND:20461028T190000Z
LOCATION:Faith Baptist Church (4101 Riosa Road\, Sheridan\, CA 95681)
SUMMARY:Sunday Morning Worship Service
URL:https://www.fbcsheridan.org/events/event/1084-sunday-morning-worship-se
 rvice
END:VEVENT
BEGIN:VEVENT
UID:20260422T141714UTC-9287RpxmPw@https://www.fbcsheridan.org/
DTSTAMP:20260422T141714Z
DESCRIPTION: https://www.fbcsheridan.org/events/event/2336-sunday-school
DTSTART:20461028T170000Z
DTEND:20461028T180000Z
LOCATION:Faith Baptist Church (4101 Riosa Road\, Sheridan\, CA 95681)
SUMMARY:Sunday School
URL:https://www.fbcsheridan.org/events/event/2336-sunday-school
END:VEVENT
BEGIN:VEVENT
UID:20260422T141714UTC-9288UhNlBA@https://www.fbcsheridan.org/
DTSTAMP:20260422T141714Z
DESCRIPTION: https://www.fbcsheridan.org/events/event/3589-sunday-evening-s
 ervice
DTSTART:20461029T000000Z
DTEND:20461029T010000Z
LOCATION:Faith Baptist Church (4101 Riosa Road\, Sheridan\, CA 95681)
SUMMARY:Sunday Evening Service
URL:https://www.fbcsheridan.org/events/event/3589-sunday-evening-service
END:VEVENT
END:VCALENDAR
