BEGIN:VCALENDAR
VERSION:2.0
PRODID:-//https://www.fbcsheridan.org///NONSGML kigkonsult.se iCalcreator 2.10.15//
METHOD:PUBLISH
BEGIN:VEVENT
UID:20260424T032837UTC-2603aMBFrn@https://www.fbcsheridan.org/
DTSTAMP:20260424T032837Z
DESCRIPTION: https://www.fbcsheridan.org/events/event/4946-wednesday-evenin
 g-service
DTSTART:20481029T020000Z
DTEND:20481029T030000Z
LOCATION:Faith Baptist Church (4101 Riosa Road\, Sheridan\, CA 95681)
SUMMARY:Wednesday Evening Service
URL:https://www.fbcsheridan.org/events/event/4946-wednesday-evening-service
END:VEVENT
END:VCALENDAR
