BEGIN:VCALENDAR
VERSION:2.0
PRODID:-//https://www.fbcsheridan.org///NONSGML kigkonsult.se iCalcreator 2.10.15//
METHOD:PUBLISH
BEGIN:VEVENT
UID:20260423T091630UTC-9043Gv1ovT@https://www.fbcsheridan.org/
DTSTAMP:20260423T091630Z
DESCRIPTION: https://www.fbcsheridan.org/events/event/4894-wednesday-evenin
 g-service
DTSTART:20471031T020000Z
DTEND:20471031T030000Z
LOCATION:Faith Baptist Church (4101 Riosa Road\, Sheridan\, CA 95681)
SUMMARY:Wednesday Evening Service
URL:https://www.fbcsheridan.org/events/event/4894-wednesday-evening-service
END:VEVENT
END:VCALENDAR
