BEGIN:VCALENDAR
VERSION:2.0
PRODID:-//https://www.fbcsheridan.org///NONSGML kigkonsult.se iCalcreator 2.10.15//
METHOD:PUBLISH
BEGIN:VEVENT
UID:20260420T103213UTC-0258Hu0BXc@https://www.fbcsheridan.org/
DTSTAMP:20260420T103213Z
DESCRIPTION: https://www.fbcsheridan.org/events/event/929-sunday-morning-wo
 rship-service
DTSTART:20431108T190000Z
DTEND:20431108T200000Z
LOCATION:Faith Baptist Church (4101 Riosa Road\, Sheridan\, CA 95681)
SUMMARY:Sunday Morning Worship Service
URL:https://www.fbcsheridan.org/events/event/929-sunday-morning-worship-ser
 vice
END:VEVENT
BEGIN:VEVENT
UID:20260420T103213UTC-0259uTXdlS@https://www.fbcsheridan.org/
DTSTAMP:20260420T103213Z
DESCRIPTION: https://www.fbcsheridan.org/events/event/2181-sunday-school
DTSTART:20431108T180000Z
DTEND:20431108T190000Z
LOCATION:Faith Baptist Church (4101 Riosa Road\, Sheridan\, CA 95681)
SUMMARY:Sunday School
URL:https://www.fbcsheridan.org/events/event/2181-sunday-school
END:VEVENT
BEGIN:VEVENT
UID:20260420T103213UTC-0260bGBNUR@https://www.fbcsheridan.org/
DTSTAMP:20260420T103213Z
DESCRIPTION: https://www.fbcsheridan.org/events/event/3434-sunday-evening-s
 ervice
DTSTART:20431109T010000Z
DTEND:20431109T020000Z
LOCATION:Faith Baptist Church (4101 Riosa Road\, Sheridan\, CA 95681)
SUMMARY:Sunday Evening Service
URL:https://www.fbcsheridan.org/events/event/3434-sunday-evening-service
END:VEVENT
END:VCALENDAR
