BEGIN:VCALENDAR
VERSION:2.0
PRODID:-//https://www.fbcsheridan.org///NONSGML kigkonsult.se iCalcreator 2.10.15//
METHOD:PUBLISH
BEGIN:VEVENT
UID:20260424T051353UTC-2053PwUvcE@https://www.fbcsheridan.org/
DTSTAMP:20260424T051353Z
DESCRIPTION: https://www.fbcsheridan.org/events/event/1190-sunday-morning-w
 orship-service
DTSTART:20481108T190000Z
DTEND:20481108T200000Z
LOCATION:Faith Baptist Church (4101 Riosa Road\, Sheridan\, CA 95681)
SUMMARY:Sunday Morning Worship Service
URL:https://www.fbcsheridan.org/events/event/1190-sunday-morning-worship-se
 rvice
END:VEVENT
BEGIN:VEVENT
UID:20260424T051353UTC-2055NNlUUF@https://www.fbcsheridan.org/
DTSTAMP:20260424T051353Z
DESCRIPTION: https://www.fbcsheridan.org/events/event/2442-sunday-school
DTSTART:20481108T180000Z
DTEND:20481108T190000Z
LOCATION:Faith Baptist Church (4101 Riosa Road\, Sheridan\, CA 95681)
SUMMARY:Sunday School
URL:https://www.fbcsheridan.org/events/event/2442-sunday-school
END:VEVENT
BEGIN:VEVENT
UID:20260424T051353UTC-2056KaJdhB@https://www.fbcsheridan.org/
DTSTAMP:20260424T051353Z
DESCRIPTION: https://www.fbcsheridan.org/events/event/3695-sunday-evening-s
 ervice
DTSTART:20481109T010000Z
DTEND:20481109T020000Z
LOCATION:Faith Baptist Church (4101 Riosa Road\, Sheridan\, CA 95681)
SUMMARY:Sunday Evening Service
URL:https://www.fbcsheridan.org/events/event/3695-sunday-evening-service
END:VEVENT
END:VCALENDAR
