BEGIN:VCALENDAR
VERSION:2.0
PRODID:-//https://www.fbcsheridan.org///NONSGML kigkonsult.se iCalcreator 2.10.15//
METHOD:PUBLISH
BEGIN:VEVENT
UID:20260419T173654UTC-8096I8ZFrW@https://www.fbcsheridan.org/
DTSTAMP:20260419T173654Z
DESCRIPTION: https://www.fbcsheridan.org/events/event/877-sunday-morning-wo
 rship-service
DTSTART:20421109T190000Z
DTEND:20421109T200000Z
LOCATION:Faith Baptist Church (4101 Riosa Road\, Sheridan\, CA 95681)
SUMMARY:Sunday Morning Worship Service
URL:https://www.fbcsheridan.org/events/event/877-sunday-morning-worship-ser
 vice
END:VEVENT
BEGIN:VEVENT
UID:20260419T173654UTC-8098ibkIX9@https://www.fbcsheridan.org/
DTSTAMP:20260419T173654Z
DESCRIPTION: https://www.fbcsheridan.org/events/event/2129-sunday-school
DTSTART:20421109T180000Z
DTEND:20421109T190000Z
LOCATION:Faith Baptist Church (4101 Riosa Road\, Sheridan\, CA 95681)
SUMMARY:Sunday School
URL:https://www.fbcsheridan.org/events/event/2129-sunday-school
END:VEVENT
BEGIN:VEVENT
UID:20260419T173654UTC-8098VvVbG6@https://www.fbcsheridan.org/
DTSTAMP:20260419T173654Z
DESCRIPTION: https://www.fbcsheridan.org/events/event/3382-sunday-evening-s
 ervice
DTSTART:20421110T010000Z
DTEND:20421110T020000Z
LOCATION:Faith Baptist Church (4101 Riosa Road\, Sheridan\, CA 95681)
SUMMARY:Sunday Evening Service
URL:https://www.fbcsheridan.org/events/event/3382-sunday-evening-service
END:VEVENT
END:VCALENDAR
