BEGIN:VCALENDAR
VERSION:2.0
PRODID:-//https://www.fbcsheridan.org///NONSGML kigkonsult.se iCalcreator 2.10.15//
METHOD:PUBLISH
BEGIN:VEVENT
UID:20260422T154331UTC-6128hi5acP@https://www.fbcsheridan.org/
DTSTAMP:20260422T154331Z
DESCRIPTION: https://www.fbcsheridan.org/events/event/1086-sunday-morning-w
 orship-service
DTSTART:20461111T190000Z
DTEND:20461111T200000Z
LOCATION:Faith Baptist Church (4101 Riosa Road\, Sheridan\, CA 95681)
SUMMARY:Sunday Morning Worship Service
URL:https://www.fbcsheridan.org/events/event/1086-sunday-morning-worship-se
 rvice
END:VEVENT
BEGIN:VEVENT
UID:20260422T154331UTC-6130nF6WNs@https://www.fbcsheridan.org/
DTSTAMP:20260422T154331Z
DESCRIPTION: https://www.fbcsheridan.org/events/event/2338-sunday-school
DTSTART:20461111T180000Z
DTEND:20461111T190000Z
LOCATION:Faith Baptist Church (4101 Riosa Road\, Sheridan\, CA 95681)
SUMMARY:Sunday School
URL:https://www.fbcsheridan.org/events/event/2338-sunday-school
END:VEVENT
BEGIN:VEVENT
UID:20260422T154331UTC-613055SGgv@https://www.fbcsheridan.org/
DTSTAMP:20260422T154331Z
DESCRIPTION: https://www.fbcsheridan.org/events/event/3591-sunday-evening-s
 ervice
DTSTART:20461112T010000Z
DTEND:20461112T020000Z
LOCATION:Faith Baptist Church (4101 Riosa Road\, Sheridan\, CA 95681)
SUMMARY:Sunday Evening Service
URL:https://www.fbcsheridan.org/events/event/3591-sunday-evening-service
END:VEVENT
END:VCALENDAR
