BEGIN:VCALENDAR
VERSION:2.0
PRODID:-//https://www.fbcsheridan.org///NONSGML kigkonsult.se iCalcreator 2.10.15//
METHOD:PUBLISH
BEGIN:VEVENT
UID:20260423T102529UTC-1825PweJKD@https://www.fbcsheridan.org/
DTSTAMP:20260423T102529Z
DESCRIPTION: https://www.fbcsheridan.org/events/event/4896-wednesday-evenin
 g-service
DTSTART:20471114T030000Z
DTEND:20471114T040000Z
LOCATION:Faith Baptist Church (4101 Riosa Road\, Sheridan\, CA 95681)
SUMMARY:Wednesday Evening Service
URL:https://www.fbcsheridan.org/events/event/4896-wednesday-evening-service
END:VEVENT
END:VCALENDAR
