BEGIN:VCALENDAR
VERSION:2.0
PRODID:-//https://www.fbcsheridan.org///NONSGML kigkonsult.se iCalcreator 2.10.15//
METHOD:PUBLISH
BEGIN:VEVENT
UID:20260420T103328UTC-0376DZ2tcH@https://www.fbcsheridan.org/
DTSTAMP:20260420T103328Z
DESCRIPTION: https://www.fbcsheridan.org/events/event/930-sunday-morning-wo
 rship-service
DTSTART:20431115T190000Z
DTEND:20431115T200000Z
LOCATION:Faith Baptist Church (4101 Riosa Road\, Sheridan\, CA 95681)
SUMMARY:Sunday Morning Worship Service
URL:https://www.fbcsheridan.org/events/event/930-sunday-morning-worship-ser
 vice
END:VEVENT
BEGIN:VEVENT
UID:20260420T103328UTC-0378BpuFhS@https://www.fbcsheridan.org/
DTSTAMP:20260420T103328Z
DESCRIPTION: https://www.fbcsheridan.org/events/event/2182-sunday-school
DTSTART:20431115T180000Z
DTEND:20431115T190000Z
LOCATION:Faith Baptist Church (4101 Riosa Road\, Sheridan\, CA 95681)
SUMMARY:Sunday School
URL:https://www.fbcsheridan.org/events/event/2182-sunday-school
END:VEVENT
BEGIN:VEVENT
UID:20260420T103328UTC-0378NbVHxX@https://www.fbcsheridan.org/
DTSTAMP:20260420T103328Z
DESCRIPTION: https://www.fbcsheridan.org/events/event/3435-sunday-evening-s
 ervice
DTSTART:20431116T010000Z
DTEND:20431116T020000Z
LOCATION:Faith Baptist Church (4101 Riosa Road\, Sheridan\, CA 95681)
SUMMARY:Sunday Evening Service
URL:https://www.fbcsheridan.org/events/event/3435-sunday-evening-service
END:VEVENT
END:VCALENDAR
