BEGIN:VCALENDAR
VERSION:2.0
PRODID:-//https://www.fbcsheridan.org///NONSGML kigkonsult.se iCalcreator 2.10.15//
METHOD:PUBLISH
BEGIN:VEVENT
UID:20260423T102556UTC-0288rJ2go0@https://www.fbcsheridan.org/
DTSTAMP:20260423T102556Z
DESCRIPTION: https://www.fbcsheridan.org/events/event/1139-sunday-morning-w
 orship-service
DTSTART:20471117T190000Z
DTEND:20471117T200000Z
LOCATION:Faith Baptist Church (4101 Riosa Road\, Sheridan\, CA 95681)
SUMMARY:Sunday Morning Worship Service
URL:https://www.fbcsheridan.org/events/event/1139-sunday-morning-worship-se
 rvice
END:VEVENT
BEGIN:VEVENT
UID:20260423T102556UTC-0289JzONxT@https://www.fbcsheridan.org/
DTSTAMP:20260423T102556Z
DESCRIPTION: https://www.fbcsheridan.org/events/event/2391-sunday-school
DTSTART:20471117T180000Z
DTEND:20471117T190000Z
LOCATION:Faith Baptist Church (4101 Riosa Road\, Sheridan\, CA 95681)
SUMMARY:Sunday School
URL:https://www.fbcsheridan.org/events/event/2391-sunday-school
END:VEVENT
BEGIN:VEVENT
UID:20260423T102556UTC-0290MpWbUU@https://www.fbcsheridan.org/
DTSTAMP:20260423T102556Z
DESCRIPTION: https://www.fbcsheridan.org/events/event/3644-sunday-evening-s
 ervice
DTSTART:20471118T010000Z
DTEND:20471118T020000Z
LOCATION:Faith Baptist Church (4101 Riosa Road\, Sheridan\, CA 95681)
SUMMARY:Sunday Evening Service
URL:https://www.fbcsheridan.org/events/event/3644-sunday-evening-service
END:VEVENT
END:VCALENDAR
