BEGIN:VCALENDAR
VERSION:2.0
PRODID:-//https://www.fbcsheridan.org///NONSGML kigkonsult.se iCalcreator 2.10.15//
METHOD:PUBLISH
BEGIN:VEVENT
UID:20260421T211330UTC-4669vN8KWa@https://www.fbcsheridan.org/
DTSTAMP:20260421T211330Z
DESCRIPTION: https://www.fbcsheridan.org/events/event/1035-sunday-morning-w
 orship-service
DTSTART:20451119T190000Z
DTEND:20451119T200000Z
LOCATION:Faith Baptist Church (4101 Riosa Road\, Sheridan\, CA 95681)
SUMMARY:Sunday Morning Worship Service
URL:https://www.fbcsheridan.org/events/event/1035-sunday-morning-worship-se
 rvice
END:VEVENT
BEGIN:VEVENT
UID:20260421T211330UTC-4671Khcalk@https://www.fbcsheridan.org/
DTSTAMP:20260421T211330Z
DESCRIPTION: https://www.fbcsheridan.org/events/event/2287-sunday-school
DTSTART:20451119T180000Z
DTEND:20451119T190000Z
LOCATION:Faith Baptist Church (4101 Riosa Road\, Sheridan\, CA 95681)
SUMMARY:Sunday School
URL:https://www.fbcsheridan.org/events/event/2287-sunday-school
END:VEVENT
BEGIN:VEVENT
UID:20260421T211330UTC-4672GI7kl7@https://www.fbcsheridan.org/
DTSTAMP:20260421T211330Z
DESCRIPTION: https://www.fbcsheridan.org/events/event/3540-sunday-evening-s
 ervice
DTSTART:20451120T010000Z
DTEND:20451120T020000Z
LOCATION:Faith Baptist Church (4101 Riosa Road\, Sheridan\, CA 95681)
SUMMARY:Sunday Evening Service
URL:https://www.fbcsheridan.org/events/event/3540-sunday-evening-service
END:VEVENT
END:VCALENDAR
